Workbook

Sheet Info
B2: BSL Buildings and Units Importer
B4: Name of person completing this spreadsheet
B6: Date the spreadsheet was completed
B8: Building Control Reference Number
B9: These three fields are for your own reference — they are not read by the import.
B11: How to complete this spreadsheet
B13: This file adds new Buildings, Units and Communal Areas to a single BSL application, and can update a few other details on the application.
B15: These tabs are intended to be filled out in order, as Units and Communal Areas each refer back to a Temporary ID in the Buildings tab. Each row must be either fully completed or left entirely blank.
B17: This spreadsheet is self-contained. For example, a unit linked to Temporary Building ID 3 will be linked to the building with Temporary ID 3 in this spreadsheet, and not the building with ID 3 in the Exacom system for the uploaded application. Each entry will be given a new internal ID once uploaded.
B19: The whole file is imported as one transaction: if any single row fails validation, nothing in the file is imported. On failure, a popup box will appear describing the issue. You may then fix the reported problem and re-upload.
B21: Buildings A building is a collection of 1 or more units
B22: • Temporary ID - Used to uniquely identify the building in the rest of the spreadsheet.
... B46: • If you have any questions or are having issues with your upload, please email support@exacom.co.uk

Sheet Buildings
A1: Buildings
A3: Temporary ID | B3: Building Name | C3: Maximum number of allowed units
A4: 1
A5: 2
A6: 3
A7: 4
A8: 5
A9: 6
A10: 7
A11: 8
A12: 9
A13: 10
A14: 11
A15: 12
... A503: 500

Sheet Units
A1: Units
A2: The Building ID refers to the number in the leftmost column on the Buildings tab.
A3: Temporary Building ID | B3: Valid? | C3: Unit Type | D3: Unit Type Code | E3: Plot Number | F3: Floorspace (m²)
B4: =IF(A4="",TRUE,IFERROR(_xlfn.LET(_xlpm.rowNum,MATCH(A4,Buildings!$A:$A,0),AND(INDEX(Buildings!$A:$A,_xlpm.rowNum)<>"",INDEX(Buildings!$B:$B,_xlpm.rowNum)<>"",INDEX(Buildings!$C:$C,_xlpm.rowNum)<>"")),FALSE)) -> TRUE | D4: =IF(C4="","",IF(C4="Ordinary Residential Dwelling",1,IF(C4="Purpose Built Student Accommodation",2,IF(C4="Exempt (Social Housing)",3,IF(C4="Other Exempt Unit Type",4,"")))))
B5: =IF(A5="",TRUE,IFERROR(_xlfn.LET(_xlpm.rowNum,MATCH(A5,Buildings!$A:$A,0),AND(INDEX(Buildings!$A:$A,_xlpm.rowNum)<>"",INDEX(Buildings!$B:$B,_xlpm.rowNum)<>"",INDEX(Buildings!$C:$C,_xlpm.rowNum)<>"")),FALSE)) -> TRUE | D5: =IF(C5="","",IF(C5="Ordinary Residential Dwelling",1,IF(C5="Purpose Built Student Accommodation",2,IF(C5="Exempt (Social Housing)",3,IF(C5="Other Exempt Unit Type",4,"")))))
B6: =IF(A6="",TRUE,IFERROR(_xlfn.LET(_xlpm.rowNum,MATCH(A6,Buildings!$A:$A,0),AND(INDEX(Buildings!$A:$A,_xlpm.rowNum)<>"",INDEX(Buildings!$B:$B,_xlpm.rowNum)<>"",INDEX(Buildings!$C:$C,_xlpm.rowNum)<>"")),FALSE)) -> TRUE | D6: =IF(C6="","",IF(C6="Ordinary Residential Dwelling",1,IF(C6="Purpose Built Student Accommodation",2,IF(C6="Exempt (Social Housing)",3,IF(C6="Other Exempt Unit Type",4,"")))))
B7: =IF(A7="",TRUE,IFERROR(_xlfn.LET(_xlpm.rowNum,MATCH(A7,Buildings!$A:$A,0),AND(INDEX(Buildings!$A:$A,_xlpm.rowNum)<>"",INDEX(Buildings!$B:$B,_xlpm.rowNum)<>"",INDEX(Buildings!$C:$C,_xlpm.rowNum)<>"")),FALSE)) -> TRUE | D7: =IF(C7="","",IF(C7="Ordinary Residential Dwelling",1,IF(C7="Purpose Built Student Accommodation",2,IF(C7="Exempt (Social Housing)",3,IF(C7="Other Exempt Unit Type",4,"")))))
B8: =IF(A8="",TRUE,IFERROR(_xlfn.LET(_xlpm.rowNum,MATCH(A8,Buildings!$A:$A,0),AND(INDEX(Buildings!$A:$A,_xlpm.rowNum)<>"",INDEX(Buildings!$B:$B,_xlpm.rowNum)<>"",INDEX(Buildings!$C:$C,_xlpm.rowNum)<>"")),FALSE)) -> TRUE | D8: =IF(C8="","",IF(C8="Ordinary Residential Dwelling",1,IF(C8="Purpose Built Student Accommodation",2,IF(C8="Exempt (Social Housing)",3,IF(C8="Other Exempt Unit Type",4,"")))))
B9: =IF(A9="",TRUE,IFERROR(_xlfn.LET(_xlpm.rowNum,MATCH(A9,Buildings!$A:$A,0),AND(INDEX(Buildings!$A:$A,_xlpm.rowNum)<>"",INDEX(Buildings!$B:$B,_xlpm.rowNum)<>"",INDEX(Buildings!$C:$C,_xlpm.rowNum)<>"")),FALSE)) -> TRUE | D9: =IF(C9="","",IF(C9="Ordinary Residential Dwelling",1,IF(C9="Purpose Built Student Accommodation",2,IF(C9="Exempt (Social Housing)",3,IF(C9="Other Exempt Unit Type",4,"")))))
B10: =IF(A10="",TRUE,IFERROR(_xlfn.LET(_xlpm.rowNum,MATCH(A10,Buildings!$A:$A,0),AND(INDEX(Buildings!$A:$A,_xlpm.rowNum)<>"",INDEX(Buildings!$B:$B,_xlpm.rowNum)<>"",INDEX(Buildings!$C:$C,_xlpm.rowNum)<>"")),FALSE)) -> TRUE | D10: =IF(C10="","",IF(C10="Ordinary Residential Dwelling",1,IF(C10="Purpose Built Student Accommodation",2,IF(C10="Exempt (Social Housing)",3,IF(C10="Other Exempt Unit Type",4,"")))))
B11: =IF(A11="",TRUE,IFERROR(_xlfn.LET(_xlpm.rowNum,MATCH(A11,Buildings!$A:$A,0),AND(INDEX(Buildings!$A:$A,_xlpm.rowNum)<>"",INDEX(Buildings!$B:$B,_xlpm.rowNum)<>"",INDEX(Buildings!$C:$C,_xlpm.rowNum)<>"")),FALSE)) -> TRUE | D11: =IF(C11="","",IF(C11="Ordinary Residential Dwelling",1,IF(C11="Purpose Built Student Accommodation",2,IF(C11="Exempt (Social Housing)",3,IF(C11="Other Exempt Unit Type",4,"")))))
B12: =IF(A12="",TRUE,IFERROR(_xlfn.LET(_xlpm.rowNum,MATCH(A12,Buildings!$A:$A,0),AND(INDEX(Buildings!$A:$A,_xlpm.rowNum)<>"",INDEX(Buildings!$B:$B,_xlpm.rowNum)<>"",INDEX(Buildings!$C:$C,_xlpm.rowNum)<>"")),FALSE)) -> TRUE | D12: =IF(C12="","",IF(C12="Ordinary Residential Dwelling",1,IF(C12="Purpose Built Student Accommodation",2,IF(C12="Exempt (Social Housing)",3,IF(C12="Other Exempt Unit Type",4,"")))))
B13: =IF(A13="",TRUE,IFERROR(_xlfn.LET(_xlpm.rowNum,MATCH(A13,Buildings!$A:$A,0),AND(INDEX(Buildings!$A:$A,_xlpm.rowNum)<>"",INDEX(Buildings!$B:$B,_xlpm.rowNum)<>"",INDEX(Buildings!$C:$C,_xlpm.rowNum)<>"")),FALSE)) -> TRUE | D13: =IF(C13="","",IF(C13="Ordinary Residential Dwelling",1,IF(C13="Purpose Built Student Accommodation",2,IF(C13="Exempt (Social Housing)",3,IF(C13="Other Exempt Unit Type",4,"")))))
B14: =IF(A14="",TRUE,IFERROR(_xlfn.LET(_xlpm.rowNum,MATCH(A14,Buildings!$A:$A,0),AND(INDEX(Buildings!$A:$A,_xlpm.rowNum)<>"",INDEX(Buildings!$B:$B,_xlpm.rowNum)<>"",INDEX(Buildings!$C:$C,_xlpm.rowNum)<>"")),FALSE)) -> TRUE | D14: =IF(C14="","",IF(C14="Ordinary Residential Dwelling",1,IF(C14="Purpose Built Student Accommodation",2,IF(C14="Exempt (Social Housing)",3,IF(C14="Other Exempt Unit Type",4,"")))))
B15: =IF(A15="",TRUE,IFERROR(_xlfn.LET(_xlpm.rowNum,MATCH(A15,Buildings!$A:$A,0),AND(INDEX(Buildings!$A:$A,_xlpm.rowNum)<>"",INDEX(Buildings!$B:$B,_xlpm.rowNum)<>"",INDEX(Buildings!$C:$C,_xlpm.rowNum)<>"")),FALSE)) -> TRUE | D15: =IF(C15="","",IF(C15="Ordinary Residential Dwelling",1,IF(C15="Purpose Built Student Accommodation",2,IF(C15="Exempt (Social Housing)",3,IF(C15="Other Exempt Unit Type",4,"")))))
... B503: =IF(A503="",TRUE,IFERROR(_xlfn.LET(_xlpm.rowNum,MATCH(A503,Buildings!$A:$A,0),AND(INDEX(Buildings!$A:$A,_xlpm.rowNum)<>"",INDEX(Buildings!$B:$B,_xlpm.rowNum)<>"",INDEX(Buildings!$C:$C,_xlpm.rowNum)<>"")),FALSE)) -> TRUE | D503: =IF(C503="","",IF(C503="Ordinary Residential Dwelling",1,IF(C503="Purpose Built Student Accommodation",2,IF(C503="Exempt (Social Housing)",3,IF(C503="Other Exempt Unit Type",4,"")))))

Sheet Communal Areas
A1: Communal Areas
A3: Communal Area Name | B3: Communal Area Floorspace (m²) | C3: Linked Buildings | D3: Valid?
D4: {=IF(C4="",TRUE,_xlfn.LET(_xlpm.ids,TRIM(_xlfn.TEXTSPLIT(C4,",")),_xlpm.checks,_xlfn.BYROW(_xlpm.ids,_xlfn.LAMBDA(_xlpm.id,IFERROR(_xlfn.LET(_xlpm.rowNum,MATCH(VALUE(_xlpm.id),Buildings!$A:$A,0),AND(INDEX(Buildings!$A:$A,_xlpm.rowNum)<>"",INDEX(Buildings!$B:$B,_xlpm.rowNum)<>"",INDEX(Buildings!$C:$C,_xlpm.rowNum)<>"",INDEX(Buildings!$C:$C,_xlpm.rowNum)<>1)),FALSE))),AND(_xlpm.checks)))} -> TRUE
D5: {=IF(C5="",TRUE,_xlfn.LET(_xlpm.ids,TRIM(_xlfn.TEXTSPLIT(C5,",")),_xlpm.checks,_xlfn.BYROW(_xlpm.ids,_xlfn.LAMBDA(_xlpm.id,IFERROR(_xlfn.LET(_xlpm.rowNum,MATCH(VALUE(_xlpm.id),Buildings!$A:$A,0),AND(INDEX(Buildings!$A:$A,_xlpm.rowNum)<>"",INDEX(Buildings!$B:$B,_xlpm.rowNum)<>"",INDEX(Buildings!$C:$C,_xlpm.rowNum)<>"",INDEX(Buildings!$C:$C,_xlpm.rowNum)<>1)),FALSE))),AND(_xlpm.checks)))} -> TRUE
D6: {=IF(C6="",TRUE,_xlfn.LET(_xlpm.ids,TRIM(_xlfn.TEXTSPLIT(C6,",")),_xlpm.checks,_xlfn.BYROW(_xlpm.ids,_xlfn.LAMBDA(_xlpm.id,IFERROR(_xlfn.LET(_xlpm.rowNum,MATCH(VALUE(_xlpm.id),Buildings!$A:$A,0),AND(INDEX(Buildings!$A:$A,_xlpm.rowNum)<>"",INDEX(Buildings!$B:$B,_xlpm.rowNum)<>"",INDEX(Buildings!$C:$C,_xlpm.rowNum)<>"",INDEX(Buildings!$C:$C,_xlpm.rowNum)<>1)),FALSE))),AND(_xlpm.checks)))} -> TRUE
D7: {=IF(C7="",TRUE,_xlfn.LET(_xlpm.ids,TRIM(_xlfn.TEXTSPLIT(C7,",")),_xlpm.checks,_xlfn.BYROW(_xlpm.ids,_xlfn.LAMBDA(_xlpm.id,IFERROR(_xlfn.LET(_xlpm.rowNum,MATCH(VALUE(_xlpm.id),Buildings!$A:$A,0),AND(INDEX(Buildings!$A:$A,_xlpm.rowNum)<>"",INDEX(Buildings!$B:$B,_xlpm.rowNum)<>"",INDEX(Buildings!$C:$C,_xlpm.rowNum)<>"",INDEX(Buildings!$C:$C,_xlpm.rowNum)<>1)),FALSE))),AND(_xlpm.checks)))} -> TRUE
D8: {=IF(C8="",TRUE,_xlfn.LET(_xlpm.ids,TRIM(_xlfn.TEXTSPLIT(C8,",")),_xlpm.checks,_xlfn.BYROW(_xlpm.ids,_xlfn.LAMBDA(_xlpm.id,IFERROR(_xlfn.LET(_xlpm.rowNum,MATCH(VALUE(_xlpm.id),Buildings!$A:$A,0),AND(INDEX(Buildings!$A:$A,_xlpm.rowNum)<>"",INDEX(Buildings!$B:$B,_xlpm.rowNum)<>"",INDEX(Buildings!$C:$C,_xlpm.rowNum)<>"",INDEX(Buildings!$C:$C,_xlpm.rowNum)<>1)),FALSE))),AND(_xlpm.checks)))} -> TRUE
D9: {=IF(C9="",TRUE,_xlfn.LET(_xlpm.ids,TRIM(_xlfn.TEXTSPLIT(C9,",")),_xlpm.checks,_xlfn.BYROW(_xlpm.ids,_xlfn.LAMBDA(_xlpm.id,IFERROR(_xlfn.LET(_xlpm.rowNum,MATCH(VALUE(_xlpm.id),Buildings!$A:$A,0),AND(INDEX(Buildings!$A:$A,_xlpm.rowNum)<>"",INDEX(Buildings!$B:$B,_xlpm.rowNum)<>"",INDEX(Buildings!$C:$C,_xlpm.rowNum)<>"",INDEX(Buildings!$C:$C,_xlpm.rowNum)<>1)),FALSE))),AND(_xlpm.checks)))} -> TRUE
D10: {=IF(C10="",TRUE,_xlfn.LET(_xlpm.ids,TRIM(_xlfn.TEXTSPLIT(C10,",")),_xlpm.checks,_xlfn.BYROW(_xlpm.ids,_xlfn.LAMBDA(_xlpm.id,IFERROR(_xlfn.LET(_xlpm.rowNum,MATCH(VALUE(_xlpm.id),Buildings!$A:$A,0),AND(INDEX(Buildings!$A:$A,_xlpm.rowNum)<>"",INDEX(Buildings!$B:$B,_xlpm.rowNum)<>"",INDEX(Buildings!$C:$C,_xlpm.rowNum)<>"",INDEX(Buildings!$C:$C,_xlpm.rowNum)<>1)),FALSE))),AND(_xlpm.checks)))} -> TRUE
D11: {=IF(C11="",TRUE,_xlfn.LET(_xlpm.ids,TRIM(_xlfn.TEXTSPLIT(C11,",")),_xlpm.checks,_xlfn.BYROW(_xlpm.ids,_xlfn.LAMBDA(_xlpm.id,IFERROR(_xlfn.LET(_xlpm.rowNum,MATCH(VALUE(_xlpm.id),Buildings!$A:$A,0),AND(INDEX(Buildings!$A:$A,_xlpm.rowNum)<>"",INDEX(Buildings!$B:$B,_xlpm.rowNum)<>"",INDEX(Buildings!$C:$C,_xlpm.rowNum)<>"",INDEX(Buildings!$C:$C,_xlpm.rowNum)<>1)),FALSE))),AND(_xlpm.checks)))} -> TRUE
D12: {=IF(C12="",TRUE,_xlfn.LET(_xlpm.ids,TRIM(_xlfn.TEXTSPLIT(C12,",")),_xlpm.checks,_xlfn.BYROW(_xlpm.ids,_xlfn.LAMBDA(_xlpm.id,IFERROR(_xlfn.LET(_xlpm.rowNum,MATCH(VALUE(_xlpm.id),Buildings!$A:$A,0),AND(INDEX(Buildings!$A:$A,_xlpm.rowNum)<>"",INDEX(Buildings!$B:$B,_xlpm.rowNum)<>"",INDEX(Buildings!$C:$C,_xlpm.rowNum)<>"",INDEX(Buildings!$C:$C,_xlpm.rowNum)<>1)),FALSE))),AND(_xlpm.checks)))} -> TRUE
D13: {=IF(C13="",TRUE,_xlfn.LET(_xlpm.ids,TRIM(_xlfn.TEXTSPLIT(C13,",")),_xlpm.checks,_xlfn.BYROW(_xlpm.ids,_xlfn.LAMBDA(_xlpm.id,IFERROR(_xlfn.LET(_xlpm.rowNum,MATCH(VALUE(_xlpm.id),Buildings!$A:$A,0),AND(INDEX(Buildings!$A:$A,_xlpm.rowNum)<>"",INDEX(Buildings!$B:$B,_xlpm.rowNum)<>"",INDEX(Buildings!$C:$C,_xlpm.rowNum)<>"",INDEX(Buildings!$C:$C,_xlpm.rowNum)<>1)),FALSE))),AND(_xlpm.checks)))} -> TRUE
D14: {=IF(C14="",TRUE,_xlfn.LET(_xlpm.ids,TRIM(_xlfn.TEXTSPLIT(C14,",")),_xlpm.checks,_xlfn.BYROW(_xlpm.ids,_xlfn.LAMBDA(_xlpm.id,IFERROR(_xlfn.LET(_xlpm.rowNum,MATCH(VALUE(_xlpm.id),Buildings!$A:$A,0),AND(INDEX(Buildings!$A:$A,_xlpm.rowNum)<>"",INDEX(Buildings!$B:$B,_xlpm.rowNum)<>"",INDEX(Buildings!$C:$C,_xlpm.rowNum)<>"",INDEX(Buildings!$C:$C,_xlpm.rowNum)<>1)),FALSE))),AND(_xlpm.checks)))} -> TRUE
D15: {=IF(C15="",TRUE,_xlfn.LET(_xlpm.ids,TRIM(_xlfn.TEXTSPLIT(C15,",")),_xlpm.checks,_xlfn.BYROW(_xlpm.ids,_xlfn.LAMBDA(_xlpm.id,IFERROR(_xlfn.LET(_xlpm.rowNum,MATCH(VALUE(_xlpm.id),Buildings!$A:$A,0),AND(INDEX(Buildings!$A:$A,_xlpm.rowNum)<>"",INDEX(Buildings!$B:$B,_xlpm.rowNum)<>"",INDEX(Buildings!$C:$C,_xlpm.rowNum)<>"",INDEX(Buildings!$C:$C,_xlpm.rowNum)<>1)),FALSE))),AND(_xlpm.checks)))} -> TRUE
... D503: {=IF(C503="",TRUE,_xlfn.LET(_xlpm.ids,TRIM(_xlfn.TEXTSPLIT(C503,",")),_xlpm.checks,_xlfn.BYROW(_xlpm.ids,_xlfn.LAMBDA(_xlpm.id,IFERROR(_xlfn.LET(_xlpm.rowNum,MATCH(VALUE(_xlpm.id),Buildings!$A:$A,0),AND(INDEX(Buildings!$A:$A,_xlpm.rowNum)<>"",INDEX(Buildings!$B:$B,_xlpm.rowNum)<>"",INDEX(Buildings!$C:$C,_xlpm.rowNum)<>"",INDEX(Buildings!$C:$C,_xlpm.rowNum)<>1)),FALSE))),AND(_xlpm.checks)))} -> TRUE

Sheet Extras
A1: Extras
A2: Any values left blank on this page will not update the BSL application. Any values entered will override existing values.
B4: Has this site been previously developed?
B7: Unit Type | C7: Pre-existing floorspace / retained use (m²)
B8: Ordinary Residential Dwelling
B9: Purpose Built Student Accomodation
B10: Exempt (Social Housing)
B11: Other Exempt Unit Type
